BEGIN:VCALENDAR
VERSION:2.0
PRODID:-//Kulturstätte Monta - ECPv6.15.17//NONSGML v1.0//EN
CALSCALE:GREGORIAN
METHOD:PUBLISH
X-ORIGINAL-URL:https://kulturstaette-monta.de
X-WR-CALDESC:Veranstaltungen für Kulturstätte Monta
REFRESH-INTERVAL;VALUE=DURATION:PT1H
X-Robots-Tag:noindex
X-PUBLISHED-TTL:PT1H
BEGIN:VTIMEZONE
TZID:Europe/Berlin
BEGIN:DAYLIGHT
TZOFFSETFROM:+0100
TZOFFSETTO:+0200
TZNAME:CEST
DTSTART:20210328T010000
END:DAYLIGHT
BEGIN:STANDARD
TZOFFSETFROM:+0200
TZOFFSETTO:+0100
TZNAME:CET
DTSTART:20211031T010000
END:STANDARD
BEGIN:DAYLIGHT
TZOFFSETFROM:+0100
TZOFFSETTO:+0200
TZNAME:CEST
DTSTART:20220327T010000
END:DAYLIGHT
BEGIN:STANDARD
TZOFFSETFROM:+0200
TZOFFSETTO:+0100
TZNAME:CET
DTSTART:20221030T010000
END:STANDARD
BEGIN:DAYLIGHT
TZOFFSETFROM:+0100
TZOFFSETTO:+0200
TZNAME:CEST
DTSTART:20230326T010000
END:DAYLIGHT
BEGIN:STANDARD
TZOFFSETFROM:+0200
TZOFFSETTO:+0100
TZNAME:CET
DTSTART:20231029T010000
END:STANDARD
END:VTIMEZONE
BEGIN:VEVENT
DTSTART;TZID=Europe/Berlin:20220522T103000
DTEND;TZID=Europe/Berlin:20220522T130000
DTSTAMP:20260425T143113
CREATED:20220211T102441Z
LAST-MODIFIED:20220223T105045Z
UID:5032-1653215400-1653224400@kulturstaette-monta.de
SUMMARY:Gala Monta Open 2022 Preis an Nicolas Mahler / Wien
DESCRIPTION:Premiere! Preis-Gala! \nMonta Open 2022\nTeilnahme nur auf Einladung\n  \nPressemitteilung: \nDie Kulturstätte Monta in Wiesbaden gibt bekannt\, dass am 22.Mai zum ersten Mal der Kulturpreis „Monta Open“ vergeben wird. Die mit einem Studienaufenthalt und 999€ ausgestattete Trophäe wird jedes Jahr an eine außergewöhnliche Künstlerpersönlichkeit vergeben\, deren Schaffen eine ganz besondere Handschrift hat und mit Eigensinn punktet. Eine Festlegung auf Genres gibt es nicht. Aber Doppelbegabung und Arbeiten im Crossover von Techniken und kollegiale Koproduktionen sind besonders gern gesehen. \nAusgezeichnet wird 2022 zur „Premiere“ des „Monta Open“ der Wiener Cartoonist\, Comiczeichner\, Trickfilmer und Lyriker Nicolas Mahler. \nMit seinen langnäsigen Figuren\, einem radikal reduzierten Strich schuf Mahler mit diversen sequenziellen Formaten vom Cartoon bis zum Trickfilm einen eigenen Kosmos. Seine Heroen und Heldinnen erleben und erleiden in vermeintlich harmlosen Alltagssituationen den „struggle of life“. Oft auf autobiographischen Erlebnissen beruhend setzt sich Mahler in seinen Stories hochselbst den Fährnissen der Realität aus. Da ist die hammerharte Finanzbeamtin „Frau Goldgruber“. Im Kulturbetrieb sind ständig kleine Fechtereien mit Kunstprofessoren\, Ausstellungskuratoren oder Zeichenkollegen auszustehen. Dies alles in knappsten Dialogen\, deren Trockenhumor von tiefer Menschlichkeit ist. Und niemand ist in der Lage seitenweise Gespräche aus Schweigen zu gestalten. \nWeitere markante Spur im Werk von Mahler sind seine Überarbeitungen von Weltliteratur. Mit entzückend naivem Größenwahn werden Meisterwerke von Proust\, Joyce\, Musil\, H.C. Artmann\, Elfriede Jelinek oder zuletzt Arno Schmidt in Szene gesetzt. Natürlich „leicht gekürzt“\, und mit einigen Wort- als auch Bildzitaten erweitert. Mahlers „Varianten“ entwickeln einen derart zwingenden Narrativ in Strich\, Farbgebung und Text\, dass sie zu selbständigen Originalen werden. Besonders bei „Thomas Bernhard- Die unkorrekte Biographie“ zeigt sich Mahlers Erzählkunst\, in der sich Bild- und Textebenen teils kalauernd durchdingen. Ein Boxerviereck ist „Thomas Bernhard versus Elias Canetti“ übertitelt. Das wird mit Vokabeln wie „Schmal-Kant“ gefightet. Der eine in Lederhosen\, der andere mit seiner bekannten Haartolle über dem Brillengestell. \nNicolas Mahler wurde 1969 in Wien geboren\, wo er auch lebt und arbeitet. 2007 erhielt er den Deutschen Karikaturpreis (Dresden/Bremen)\, 2015 den „Preis der Literaturhäuser“. Regelmäßig publiziert er Cartoons in „Titanic“\, und für Tageszeitungen wie die FAZ oder Neue Züricher Zeitung. Seine Bücher sind in englischer\, japanischer\, russischer und französischer Sprache erschienen. \nDer Pate von Monta Open 2022 ist der Wiesbadener Kulturdezernent Axel Imholz\, ein ausgewiesener Comic-Experte. \nKathrin Schwedler
URL:https://kulturstaette-monta.de/veranstaltungen/gala-monta-open-2022-preis-an-nicolas-mahler-wien/
LOCATION:Kulturstätte Monta\, Schulberg 7-9\, Wiesbaden\, 65183\, Deutschland
CATEGORIES:Sprechwerk Monta
ATTACH;FMTTYPE=image/jpeg:https://kulturstaette-monta.de/wp-content/uploads/Monta-Mahler.jpg
END:VEVENT
END:VCALENDAR