BEGIN:VCALENDAR
VERSION:2.0
PRODID:-//Kulturstätte Monta - ECPv6.15.17//NONSGML v1.0//EN
CALSCALE:GREGORIAN
METHOD:PUBLISH
X-ORIGINAL-URL:https://kulturstaette-monta.de
X-WR-CALDESC:Veranstaltungen für Kulturstätte Monta
REFRESH-INTERVAL;VALUE=DURATION:PT1H
X-Robots-Tag:noindex
X-PUBLISHED-TTL:PT1H
BEGIN:VTIMEZONE
TZID:Europe/Berlin
BEGIN:DAYLIGHT
TZOFFSETFROM:+0100
TZOFFSETTO:+0200
TZNAME:CEST
DTSTART:20250330T010000
END:DAYLIGHT
BEGIN:STANDARD
TZOFFSETFROM:+0200
TZOFFSETTO:+0100
TZNAME:CET
DTSTART:20251026T010000
END:STANDARD
BEGIN:DAYLIGHT
TZOFFSETFROM:+0100
TZOFFSETTO:+0200
TZNAME:CEST
DTSTART:20260329T010000
END:DAYLIGHT
BEGIN:STANDARD
TZOFFSETFROM:+0200
TZOFFSETTO:+0100
TZNAME:CET
DTSTART:20261025T010000
END:STANDARD
BEGIN:DAYLIGHT
TZOFFSETFROM:+0100
TZOFFSETTO:+0200
TZNAME:CEST
DTSTART:20270328T010000
END:DAYLIGHT
BEGIN:STANDARD
TZOFFSETFROM:+0200
TZOFFSETTO:+0100
TZNAME:CET
DTSTART:20271031T010000
END:STANDARD
END:VTIMEZONE
BEGIN:VEVENT
DTSTART;TZID=Europe/Berlin:20260225T193000
DTEND;TZID=Europe/Berlin:20260225T193000
DTSTAMP:20260426T050957
CREATED:20251126T081633Z
LAST-MODIFIED:20260220T102536Z
UID:6458-1772047800-1772047800@kulturstaette-monta.de
SUMMARY:Trau-Duo Gramenz&Parker im Konzert
DESCRIPTION:www.kulturstaette-monta.de \nSchulberg 7-9\, 65183 Wiesbaden \nhttps://www.youtube.com/watch?v=GXSTx_Ofsj8 \n  \nMi. 25.2./ 19:30Uhr \nEintritt frei! Spenden erbeten! \nReservierung unter brentanoserbenmonta@t-online.de \nKonzert-Special \n\n„..the way like dreamers do..“   \nFolkig- Jazzige Eigenkompositionen\nGramenz & Parker  \nSinnliche und verträumte Lieder mit Swing\, das ist die Musik des Duos „Gramenz & Parker“.\nManchmal heiter\, öfters melancholisch\, aber auch zupackend nehmen Sabine Gramenz (Gesang) und Udo Parker (Gitarre) bevorzugt die kleinen musikalischen Nebenstraßen mit all ihren Facetten\, um Stimmungen auszuloten\, und die Zuhörer auf ihren musikalischen Wanderwegen durch die Welt der Liebe und Träume mitzunehmen. \nÜber den ständig mäandernden\, weich fließenden Gitarrenakkorden ihres Partners Udo Parker\, ein Urgestein der Wiesbadener Konzertlandschaft\, kann sich Sängerin Sabine Gramenz stimmlich in allen Lagen frei entfalten. Eben noch rauchig-verrucht in balladesken\, dann blues-affiner Herzschmerz \, und weiter gesprungen in Walzerseligkeiten. Mit ihrem Markenzeichen der Singenden Säge\, oder der Ukulele erzeugt Sabine Gramenz im Zusammenspiel mit Parker einen eigenen Sound und Spiellaune. \nDas Duo lässt sich nicht gerne in einer Schublade stecken. Bei den englischsprachigen Eigenkompositionen hört man folkloristische Stilelemente heraus. Aber auch jazzige Anklänge und lateinamerikanische Rhythmen verschmelzen zu einer abwechslungsreichen\, aufregenden Melange mit authentischer\, unverwechselbarer Handschrift: Sympathisch\, lässig\, musikantisch und in jedem Fall- einfach schön! \n\nSabine Gramenz (Gesang Ukulele\, Singende Säge)\, Udo Parker (Gitarre) \n 
URL:https://kulturstaette-monta.de/veranstaltungen/trau-duo-gramenzparker-im-konzert/
LOCATION:Kulturstätte Monta\, Schulberg 7-9\, Wiesbaden\, 65183\, Deutschland
CATEGORIES:Konzert
ATTACH;FMTTYPE=image/jpeg:https://kulturstaette-monta.de/wp-content/uploads/26.2.-Gramenz-Parker.jpg
END:VEVENT
END:VCALENDAR