BEGIN:VCALENDAR
VERSION:2.0
PRODID:-//Kulturstätte Monta - ECPv6.15.17//NONSGML v1.0//EN
CALSCALE:GREGORIAN
METHOD:PUBLISH
X-ORIGINAL-URL:https://kulturstaette-monta.de
X-WR-CALDESC:Veranstaltungen für Kulturstätte Monta
REFRESH-INTERVAL;VALUE=DURATION:PT1H
X-Robots-Tag:noindex
X-PUBLISHED-TTL:PT1H
BEGIN:VTIMEZONE
TZID:Europe/Berlin
BEGIN:DAYLIGHT
TZOFFSETFROM:+0100
TZOFFSETTO:+0200
TZNAME:CEST
DTSTART:20220327T010000
END:DAYLIGHT
BEGIN:STANDARD
TZOFFSETFROM:+0200
TZOFFSETTO:+0100
TZNAME:CET
DTSTART:20221030T010000
END:STANDARD
BEGIN:DAYLIGHT
TZOFFSETFROM:+0100
TZOFFSETTO:+0200
TZNAME:CEST
DTSTART:20230326T010000
END:DAYLIGHT
BEGIN:STANDARD
TZOFFSETFROM:+0200
TZOFFSETTO:+0100
TZNAME:CET
DTSTART:20231029T010000
END:STANDARD
BEGIN:DAYLIGHT
TZOFFSETFROM:+0100
TZOFFSETTO:+0200
TZNAME:CEST
DTSTART:20240331T010000
END:DAYLIGHT
BEGIN:STANDARD
TZOFFSETFROM:+0200
TZOFFSETTO:+0100
TZNAME:CET
DTSTART:20241027T010000
END:STANDARD
END:VTIMEZONE
BEGIN:VEVENT
DTSTART;TZID=Europe/Berlin:20230513T183000
DTEND;TZID=Europe/Berlin:20230513T193000
DTSTAMP:20260423T232132
CREATED:20230421T101411Z
LAST-MODIFIED:20230503T074150Z
UID:5719-1684002600-1684006200@kulturstaette-monta.de
SUMMARY:Wiesbaden tanzt*   Wohin die Reise?
DESCRIPTION:WIESBADEN TANZT \nSamstag. 13.Mai/  18.30 Uhr  \nWohin die Reise? \nPerformance mit Live-Musik\nim Garten und in der Kapelle der Kulturstätte Monta \nEintritt frei! Spenden möglich! \nBegrenzte Platzanzahl: Voranmeldung unter brentanoserbenmonta@t-online.de \n \nDazwischen sein – Suche nach Zuhause – Heimatsehnen \nMit Texten\, Klängen\, Jodeltönen und Bewegung entsteht eine improvisatorische Raumbespielung im Aussen- und im Innenraum.\nAngeregt vom Zusammenspiel von Digeridoo\, Gongs\, Hang\, Stimme und diversen Klanginstrumenten entwickelt sich eine kleine Reise durch den Garten in die verborgene und ausgesegnete Kapelle im Innern eines unterdessen (fast) gewöhnlichen Hauses. \nIdee und Regie: Christa Zehnder CH/D\nKlangmusik und Stimme: Steven Williams und Vincent Vandurek\nBewegung und Texte: Christa Zehnder\nTexte: Katharina Jäschke\nGesang: Olena Babenko (UK) \nBei Gewitter wird der Beginn um eine halbe Stunde nach hinten verschoben oder verkürzt ganz in die Kapelle verlegt. Die Info steht ggf. 90 Min. vorher im Update auf www.yoga-wiesbaden.de unter aktuell oder https://kulturstaette-monta.de/
URL:https://kulturstaette-monta.de/veranstaltungen/wiesbaden-tanzt-verreisen-mit-herz-und-hirn/
LOCATION:Kulturstätte Monta\, Schulberg 7-9\, Wiesbaden\, 65183\, Deutschland
CATEGORIES:Poetry Performance
ATTACH;FMTTYPE=image/jpeg:https://kulturstaette-monta.de/wp-content/uploads/03_Christa--scaled.jpg
END:VEVENT
END:VCALENDAR