BEGIN:VCALENDAR
VERSION:2.0
PRODID:-//Kulturstätte Monta - ECPv6.15.17//NONSGML v1.0//EN
CALSCALE:GREGORIAN
METHOD:PUBLISH
X-ORIGINAL-URL:https://kulturstaette-monta.de
X-WR-CALDESC:Veranstaltungen für Kulturstätte Monta
REFRESH-INTERVAL;VALUE=DURATION:PT1H
X-Robots-Tag:noindex
X-PUBLISHED-TTL:PT1H
BEGIN:VTIMEZONE
TZID:Europe/Berlin
BEGIN:DAYLIGHT
TZOFFSETFROM:+0100
TZOFFSETTO:+0200
TZNAME:CEST
DTSTART:20240331T010000
END:DAYLIGHT
BEGIN:STANDARD
TZOFFSETFROM:+0200
TZOFFSETTO:+0100
TZNAME:CET
DTSTART:20241027T010000
END:STANDARD
BEGIN:DAYLIGHT
TZOFFSETFROM:+0100
TZOFFSETTO:+0200
TZNAME:CEST
DTSTART:20250330T010000
END:DAYLIGHT
BEGIN:STANDARD
TZOFFSETFROM:+0200
TZOFFSETTO:+0100
TZNAME:CET
DTSTART:20251026T010000
END:STANDARD
BEGIN:DAYLIGHT
TZOFFSETFROM:+0100
TZOFFSETTO:+0200
TZNAME:CEST
DTSTART:20260329T010000
END:DAYLIGHT
BEGIN:STANDARD
TZOFFSETFROM:+0200
TZOFFSETTO:+0100
TZNAME:CET
DTSTART:20261025T010000
END:STANDARD
END:VTIMEZONE
BEGIN:VEVENT
DTSTART;TZID=Europe/Berlin:20250308T193000
DTEND;TZID=Europe/Berlin:20250308T210000
DTSTAMP:20260422T124226
CREATED:20241111T101955Z
LAST-MODIFIED:20250130T111456Z
UID:6215-1741462200-1741467600@kulturstaette-monta.de
SUMMARY:Frauentag: Else Lasker-Schüler
DESCRIPTION:www.kulturstaette-monta.de \nSa. 8.März\, 19:30Uhr\nEintritt frei! Spenden erwünscht! \n \nIch habe dich gewählt\nElse Lasker-Schüler – Die Facettenreiche \nPoetisch – tänzerisch – musikalisches Konzert \nDas Trio Siwistri goes Poetry widmet sich in ihrem neuen Kunstprojekt „Ich habe dich gewählt“ der Dichterin Else Lasker-Schüler\, dieser herausragenden Figur der deutschsprachigen Literatur und Kunst des 20. Jahrhunderts. \nElse Lasker-Schüler war nicht nur Dichterin\, sondern auch Zeichnerin und Performerin. Sie war Jüdin und Araberin\, überzeugte Großstädterin und „Kinoniterin“\, Vielverliebte und zuletzt „Verscheuchte“. \nIhr Weg von Elberfeld nach Jerusalem war herausfordernd\, ihr Leben von 1869 bis 1945 spiegelt die turbulente Epoche des Deutschen Reiches wider. \nIn einer von Normen geprägten Zeit wählte sie ihren eigenen Weg\, brachte ihren Sohn Paul\, ein Wunschkind von einem nicht genannten Erzeuger\, nicht ihrem damaligen Ehemann\, zur Welt und verfolgte unbeirrt ihren künstlerischen Weg. \nAuch 80 Jahre nach ihrem Tod fasziniert sie weiterhin. Ihre Gedichte werden neu vertont\, übersetzt und ihre Schauspiele gelegentlich aufgeführt. \nDas Trio Siwistri goes Poetry nähert sich dieser außergewöhnlichen Künstlerin in einer interdisziplinären Performance\, die Poesie\, Tanz und Musik vereint\, um die vielfältigen Facetten von Else Lasker-Schüler zu beleuchten. Die Aufführung lädt das Publikum ein\, sich mit ihrer komplexen Persönlichkeit auseinanderzusetzen und ihre künstlerischen Beiträge neu zu entdecken. \n  \nSiwistri goes Poetry \nSonja Beling – Flöten\, Tanz \nKerstin Heid – Gitarre \nKatharina Jäschke – Text\, Stimme \n \n  \nDanke an die ElseLasker-Schüler-Gesellschaft zur Verwendung der Zeichnung „Der Scheik und sein Freund Mschattre Zimt“ www.else-lasker-schueler-gesellschaft.de \n  \n 
URL:https://kulturstaette-monta.de/veranstaltungen/frauentag-else-lasker-schueler/
LOCATION:Kulturstätte Monta\, Schulberg 7-9\, Wiesbaden\, 65183\, Deutschland
CATEGORIES:Poetry Performance
ATTACH;FMTTYPE=image/jpeg:https://kulturstaette-monta.de/wp-content/uploads/Homepage-WasserWorteMusik-350x280-1.jpg
END:VEVENT
END:VCALENDAR