BEGIN:VCALENDAR
VERSION:2.0
PRODID:-//Kulturstätte Monta - ECPv6.15.17//NONSGML v1.0//EN
CALSCALE:GREGORIAN
METHOD:PUBLISH
X-ORIGINAL-URL:https://kulturstaette-monta.de
X-WR-CALDESC:Veranstaltungen für Kulturstätte Monta
REFRESH-INTERVAL;VALUE=DURATION:PT1H
X-Robots-Tag:noindex
X-PUBLISHED-TTL:PT1H
BEGIN:VTIMEZONE
TZID:Europe/Berlin
BEGIN:DAYLIGHT
TZOFFSETFROM:+0100
TZOFFSETTO:+0200
TZNAME:CEST
DTSTART:20250330T010000
END:DAYLIGHT
BEGIN:STANDARD
TZOFFSETFROM:+0200
TZOFFSETTO:+0100
TZNAME:CET
DTSTART:20251026T010000
END:STANDARD
BEGIN:DAYLIGHT
TZOFFSETFROM:+0100
TZOFFSETTO:+0200
TZNAME:CEST
DTSTART:20260329T010000
END:DAYLIGHT
BEGIN:STANDARD
TZOFFSETFROM:+0200
TZOFFSETTO:+0100
TZNAME:CET
DTSTART:20261025T010000
END:STANDARD
BEGIN:DAYLIGHT
TZOFFSETFROM:+0100
TZOFFSETTO:+0200
TZNAME:CEST
DTSTART:20270328T010000
END:DAYLIGHT
BEGIN:STANDARD
TZOFFSETFROM:+0200
TZOFFSETTO:+0100
TZNAME:CET
DTSTART:20271031T010000
END:STANDARD
END:VTIMEZONE
BEGIN:VEVENT
DTSTART;TZID=Europe/Berlin:20260520T193000
DTEND;TZID=Europe/Berlin:20260520T193000
DTSTAMP:20260425T210207
CREATED:20251126T083827Z
LAST-MODIFIED:20260409T071953Z
UID:6462-1779305400-1779305400@kulturstaette-monta.de
SUMMARY:Romanpräsentation: Vom Fällen des Stammbaums - Martin Piekar
DESCRIPTION:www.kulturstaette-monta.de \nMi. 20.Mai\, 2026\, 19:30Uhr \nRoman-Präsentation mit Lesung und Gespräch\, Moderation: Shirin Sojitrawalla \nTickets: 16€\, ermässigt 10€ \nVerkauft nur auf Vorbestellung und Abendkase: brentanoserbenmonta@t-online.de \n  \nMartin Piekar \nVom Fällen eines Stammbaums \nSemifiktiver Roman \nMarcin wachst auf in prekären Verhältnissen: Seine Mutter floh in \nden 1980ern aus Polen nach Deutschland\, um ihn\, ihr zweites Kind\, \nhier großzuziehen. Sie arbeitet hart als Altenpflegerin\, sie trinkt zu \nviel\, und irgendwann sieht sie in ihrem Sohn nur noch den Antagonisten. \nWährenddessen versucht Marcin\, mit Videospielen\, New \nMetal Musik und Gedichten herauszufinden\, wer er ist und hier in \nDeutschland sein kann. In dieser Spannung leben die beiden mit und \ngegeneinander. \nErst spät im Leben – die alternde Mutter ist schwer krank\, und Marcin \npflegt sie – offenbart sich die Familiengeschichte in Ganze: eine \nLebens Erzählung zwischen Anekdote und Abgrund. Der Krieg ist \nnicht vorbei. Kein Krieg ist je vorbei. \n \n  \n2023 fand Martin Piekar mit einem Auszug aus diesem Roman \nbeim Bachmann-Preis in Klagenfurt begeistertes Echo; er \nwurde mit dem Robert-Gernhardt-Preis 2024 ausgezeichnet \nund war 2025 für den Alfred-Döblin-Preis nominiert. \nMartin Piekar\, geboren 1990 in Bad Soden am Taunus\, ist \nSchriftsteller\, Lyriker\, Lehrer und bringt seine Texte ebenso \ngerne auf die Bühne wie aufs Papier. Er veröffentlichte drei \nLyrikbande: BASTARDECHO (2014)\, AMOKPERVERS (2018) \nund zuletzt LIVESTREAM & LEICHEN (2023). Bei den 47. \nTagen der deutschsprachigen Literatur in Klagenfurt wurde \ner mit dem KELAG-Preis und dem BKS Bank-Publikumspreis \nausgezeichnet. Für das Manuskript seines Debutromans \nerhielt er 2024 den Robert-Gernhardt-Preis und wurde 2025 \nfür den Alfred Doblin-Preis nominiert. Martin Piekar lebt in \nFrankfurt am Main. \nFotos: Liveaufnahme Monta-Kathrin Schwedler\, Portait- Charlotte Werndt
URL:https://kulturstaette-monta.de/veranstaltungen/romanpraesentation-vom-faellen-des-stammbaums-martin-piekar/
LOCATION:Kulturstätte Monta\, Schulberg 7-9\, Wiesbaden\, 65183\, Deutschland
CATEGORIES:Lesung
ATTACH;FMTTYPE=image/jpeg:https://kulturstaette-monta.de/wp-content/uploads/01_Martin-Piekar-c-Charlotte-Werndt-scaled.jpg
END:VEVENT
END:VCALENDAR